BEGIN:VCALENDAR
VERSION:2.0
PRODID:-//hacksw/handcal//NONSGML v1.0//EN
BEGIN:VEVENT
SUMMARY:ROUTE VTT GRAVEL La Jean racine
UID:454e3675-f972-48df-bc75-047517646e13
DTSTART:20260410T220000Z
DTEND:20260412T220000Z
LOCATION:Localisation   Saint Remy les Chevreuse
CATEGORIES:Sportif
STATUS:
DESCRIPTION:<p>Randos Route VTT GRavel</p>
 
 <p><a
 href="https://lajeanracine.fr/" target="_blank" rel="noreferrer
 noopener">https://lajeanracine.fr/</a></p>
 
 <p> </p>
URL;VALUE=URI:https://asbcyclovtt.sportsregions.fr/evenements/2026/04/11/route-vtt-gravel-la-jean-racine-2425457
END:VEVENT
END:VCALENDAR
