BEGIN:VCALENDAR
VERSION:2.0
PRODID:-//hacksw/handcal//NONSGML v1.0//EN
BEGIN:VEVENT
SUMMARY:ROUTE VTT GRAVEL LA MONTAPEINE MEAUX
UID:dcce09bd-d1e7-4ceb-940d-b9811556b763
DTSTART:20260424T220000Z
DTEND:20260426T220000Z
LOCATION:Localisation 16 CHEMIN DU TOURNAY  MEAUX
CATEGORIES:Sportif
STATUS:
DESCRIPTION:<p>RANDO ROUTE VTT GRAVEL </p>
 
 <p>pas encore d'infos
 sur leur site</p>
 
 <p><a
 href="https://veloenfrance.fr/randonnee/montapeine-avril-2026-1"
 target="_blank" rel="noreferrer
 noopener">https://veloenfrance.fr/randonnee/montapeine-avril-2026-1</a></p>
URL;VALUE=URI:https://asbcyclovtt.sportsregions.fr/evenements/2026/04/25/route-vtt-gravel-la-montapeine-meaux-2425854
END:VEVENT
END:VCALENDAR
