BEGIN:VCALENDAR
VERSION:2.0
PRODID:-//hacksw/handcal//NONSGML v1.0//EN
BEGIN:VEVENT
SUMMARY:Randonnee de la Saint Medard Saint MarD
UID:fe2d1733-a53a-45de-8fdd-85301fc462aa
DTSTART:20260516T220000Z
DTEND:20260517T220000Z
LOCATION:Localisation Rue de la Mairie  Saint Mard
CATEGORIES:Sportif
STATUS:
DESCRIPTION:<p>Rando route et marche</p>
 
 <p><a
 href="https://veloenfrance.fr/randonnee/saint-medard-mai-2026"
 target="_blank" rel="noreferrer
 noopener">https://veloenfrance.fr/randonnee/saint-medard-mai-2026</a></p>
URL;VALUE=URI:https://asbcyclovtt.sportsregions.fr/evenements/2026/05/17/randonnee-de-la-saint-medard-saint-mard-2443885
END:VEVENT
END:VCALENDAR
