BEGIN:VCALENDAR
VERSION:2.0
PRODID:-//hacksw/handcal//NONSGML v1.0//EN
BEGIN:VEVENT
SUMMARY:Tour de l'Essonne 2026
UID:e5809563-f142-412e-8a04-5ddf4db61f19
DTSTART:20260516T220000Z
DTEND:20260517T220000Z
LOCATION:Localisation 25 Rue Leontine Sohier  Longjumeau
CATEGORIES:Sportif
STATUS:
DESCRIPTION:<p>Rando route</p>
 
 <p><a
 href="http://ctlongjumeau.fr/index.php/organisations/tour-de-lessonne-2025"
 target="_blank" rel="noreferrer
 noopener">http://ctlongjumeau.fr/index.php/organisations/tour-de-lessonne-2025</a></p>
URL;VALUE=URI:https://asbcyclovtt.sportsregions.fr/evenements/2026/05/17/tour-de-lessonne-2026-2443889
END:VEVENT
END:VCALENDAR
